BEGIN:VCALENDAR
VERSION:2.0
CALSCALE:GREGORIAN
PRODID:adamgibbons/ics
METHOD:PUBLISH
X-PUBLISHED-TTL:PT1H
BEGIN:VEVENT
UID:8773@eif.convoca.la
SUMMARY:Portes Obertes a Sa Llavanera
DTSTAMP:20260420T122406Z
DTSTART:20260422T133000Z
DTEND:20260422T153000Z
URL:https://eif.convoca.la/event/portes-obertes-a-sa-llavanera-22
LOCATION:Hort comunitari sa Llavanera - Carrer de la Terrol·la\, 2. Jesús
STATUS:CONFIRMED
CATEGORIES:Jesús en Transició
END:VEVENT
BEGIN:VEVENT
UID:8851@eif.convoca.la
SUMMARY:Portes Obertes a Sa Llavanera
DTSTAMP:20260420T122406Z
DTSTART:20260425T070000Z
DTEND:20260425T110000Z
URL:https://eif.convoca.la/event/portes-obertes-a-sa-llavanera-23
LOCATION:Hort comunitari sa Llavanera - Carrer de la Terrol·la\, 2. Jesús
STATUS:CONFIRMED
CATEGORIES:Jesús en Transició
END:VEVENT
END:VCALENDAR
